BEGIN:VCALENDAR
VERSION:2.0
PRODID:-//Circuit a Peu Marina Alta - ECPv6.11.2.1//NONSGML v1.0//EN
CALSCALE:GREGORIAN
METHOD:PUBLISH
X-WR-CALNAME:Circuit a Peu Marina Alta
X-ORIGINAL-URL:https://arxiu.circuitapeu.com
X-WR-CALDESC:Esdeveniments per Circuit a Peu Marina Alta
REFRESH-INTERVAL;VALUE=DURATION:PT1H
X-Robots-Tag:noindex
X-PUBLISHED-TTL:PT1H
BEGIN:VTIMEZONE
TZID:Europe/Madrid
BEGIN:DAYLIGHT
TZOFFSETFROM:+0100
TZOFFSETTO:+0200
TZNAME:CEST
DTSTART:20250330T010000
END:DAYLIGHT
BEGIN:STANDARD
TZOFFSETFROM:+0200
TZOFFSETTO:+0100
TZNAME:CET
DTSTART:20251026T010000
END:STANDARD
END:VTIMEZONE
BEGIN:VEVENT
DTSTART;TZID=Europe/Madrid:20250412T160000
DTEND;TZID=Europe/Madrid:20250412T200000
DTSTAMP:20260420T125029
CREATED:20241202T122731Z
LAST-MODIFIED:20250406T200317Z
UID:5354-1744473600-1744488000@arxiu.circuitapeu.com
SUMMARY:Volta a Peu Dénia 2025
DESCRIPTION:INSCRIPCIONS EN SOMESPORT.COM \n\n\n\n8ª prova puntuable del 26è Circuit a peu Marina Alta\n\n\n\n\n\n\nDistància de la cursa 10 Km\n\nDistancia de la carrera: 10 Km \n\n\n\n\n\n\n\n18:30 h. – Hora d’eixida del adults\n\n18:30 h. Hora de salida de los adultos \n\n\n\n\n\n\n\n16:00 h – Hora d’eixida de les curses dels xiquets\n\n16:00 h. Hora de comienzo de las carreras infantiles \n\n\n\n\n\n\n\nEixida i Meta. Carrer La Via\, 45. Dénia\n\nSalida y Meta. Calle La Via\, 45. Dénia \n\n\n\n\n\n\n\nInscripció finalitza – 11/04/2025 a les12:00 h\n\nÚltimo dia de inscripción – 11/04/2025 a las 12:00 h \n\n\n\n\n\n\n\nServei de Dutxes. Col·legi Maristes. A 313 m. de meta.\n\nServicio de duchas: Colegio Hermanos Maristas. A 313 m. de meta. \n\n\n\n\n\n\n\nWC. Col·legi Maristes. A 313 m. de meta.\n\nAseos: Colegio Hermanos Maristas. A 313 m. de meta. \n\n\n\n\n\n\n\nServei de guarda-roba. En zona de meta.\n\nServicio de guardarropa. En zona de meta. \n\n\n\n\n\n\n\nOrganitza: C. Dénia Corre i M.I. Ajuntament de Dénia
URL:https://arxiu.circuitapeu.com/calendario/volta-a-peu-denia-2025/
LOCATION:Denia\, Calle La Via\, 45\, Dénia\, Alicante\, 03700\, Spain
ATTACH;FMTTYPE=image/jpeg:https://arxiu.circuitapeu.com/wp-content/uploads/2024/12/Cartell-VAP-Denia-2025-01.jpg
END:VEVENT
END:VCALENDAR