BEGIN:VCALENDAR
VERSION:2.0
PRODID:-//Circuit a Peu Marina Alta - ECPv6.11.2.1//NONSGML v1.0//EN
CALSCALE:GREGORIAN
METHOD:PUBLISH
X-WR-CALNAME:Circuit a Peu Marina Alta
X-ORIGINAL-URL:https://arxiu.circuitapeu.com
X-WR-CALDESC:Esdeveniments per Circuit a Peu Marina Alta
REFRESH-INTERVAL;VALUE=DURATION:PT1H
X-Robots-Tag:noindex
X-PUBLISHED-TTL:PT1H
BEGIN:VTIMEZONE
TZID:Europe/Madrid
BEGIN:DAYLIGHT
TZOFFSETFROM:+0100
TZOFFSETTO:+0200
TZNAME:CEST
DTSTART:20250330T010000
END:DAYLIGHT
BEGIN:STANDARD
TZOFFSETFROM:+0200
TZOFFSETTO:+0100
TZNAME:CET
DTSTART:20251026T010000
END:STANDARD
END:VTIMEZONE
BEGIN:VEVENT
DTSTART;TZID=Europe/Madrid:20250223T100000
DTEND;TZID=Europe/Madrid:20250223T140000
DTSTAMP:20260420T125321
CREATED:20241202T121644Z
LAST-MODIFIED:20250223T190843Z
UID:5341-1740304800-1740319200@arxiu.circuitapeu.com
SUMMARY:XXXVI Volta a peu Xàbia
DESCRIPTION:INSCRIPCIÓ EN SOMESPORT _INSCRIU-TE_ \n1ª prova puntuable del 27è Circuit a peu Marina Alta\n  \nCircuit homologat RFEA\n\nCircuito homologado RFEA \n  \nTemps màxim per a completar la prova 1h 15 min.\nTiempo máximo para completar la prueba 1h 15 min.\n\n\nDistància 10 Km\nDistancia 10 Km\n\n\n10:00 h. – Eixida Adults\n10:00 h. Salida Adultos\n\n\n\n12:00 h – Eixida curses xiquets\n\n12:00 h. Salida carreras infantiles \n  \n\nEixida. Avda. Ausias March\, 8 – Xàbia\n\nSalida \n  \n\nMeta. Palau Municipal d’Esports Miguel Buïgues Andrés. Xàbia\n\nMeta \n  \n\nDutxes. En el palau d’esports. Línia de meta.\n\nDuchas. En el palacio de Deportes. En línea de meta. \n  \nInscripció finalitza – 19/02/2024 – 23:59 h\n\nÚltimo dÍa de inscripción – 19/02/2024 – 23:59 h
URL:https://arxiu.circuitapeu.com/calendario/xxxvi-volta-a-peu-xabia/
LOCATION:Xabia 2024\, Avda. Ausias March\, 8\, Xàbia\, Alicante\, 03730\, España
ATTACH;FMTTYPE=image/jpeg:https://arxiu.circuitapeu.com/wp-content/uploads/2025/02/CARTELL-CURSA-XABIA-2025-H-05-scaled.jpeg
ORGANIZER;CN="Club Atletisme Llebeig X%C3%A0bia":MAILTO:callebeig@gmail.com
END:VEVENT
END:VCALENDAR