BEGIN:VCALENDAR
VERSION:2.0
PRODID:-//Circuit a Peu Marina Alta - ECPv6.11.2.1//NONSGML v1.0//EN
CALSCALE:GREGORIAN
METHOD:PUBLISH
X-WR-CALNAME:Circuit a Peu Marina Alta
X-ORIGINAL-URL:https://arxiu.circuitapeu.com
X-WR-CALDESC:Esdeveniments per Circuit a Peu Marina Alta
REFRESH-INTERVAL;VALUE=DURATION:PT1H
X-Robots-Tag:noindex
X-PUBLISHED-TTL:PT1H
BEGIN:VTIMEZONE
TZID:Europe/Madrid
BEGIN:DAYLIGHT
TZOFFSETFROM:+0100
TZOFFSETTO:+0200
TZNAME:CEST
DTSTART:20240331T010000
END:DAYLIGHT
BEGIN:STANDARD
TZOFFSETFROM:+0200
TZOFFSETTO:+0100
TZNAME:CET
DTSTART:20241027T010000
END:STANDARD
END:VTIMEZONE
BEGIN:VEVENT
DTSTART;VALUE=DATE:20240225
DTEND;VALUE=DATE:20240226
DTSTAMP:20260420T212233
CREATED:20231030T155121Z
LAST-MODIFIED:20240226T063603Z
UID:3617-1708819200-1708905599@arxiu.circuitapeu.com
SUMMARY:XXXV VOLTA A PEU A XÀBIA – Memorial José Albi
DESCRIPTION:CLASSIFICACIONS!!\n\n\n25 de febrer de 2024\n\nDiumenge / Domingo\n\n\n\n\n\n\n1ª prova puntuable del 26è Circuit a peu Marina Alta\n\n\n\n\n\n\n\nNou circuit homologat RFEA\n\nNuevo circuito homologado RFEA \n\n\n\n\n\n\n\n– Distància 10 Km\nDistancia 10km\n\n\n\n\n\n\n– 10:00 h. – Eixida Adults\n10:00 h. Salida Adultos\n\n\n\n\n\n\n– 12:00 h – Eixida curses xiquets\n\n12:00 h. Salida carreras infantiles \n\n\n\n\n\n\n\n– Eixida. Avda. Ausias March\, 8 – Xàbia\n\nSalida \n\n\n\n\n\n\n\n– Meta. Palau Municipal d’Esports Miguel Buïgues Andrés. Xàbia\n\nMeta \n\n\n\n\n\n\n\n– Dutxes. En el palau d’esports. Línia de meta.\n\nDuchas. En el palacio de Deportes. En línea de meta. \n\n\n\n\n\n\n\n\n– Inscripció finalitza – 21/02/2024 – 23:00 h\n\nÚltimo dÍa de inscripción – 21/02/2024 – 23:00 h
URL:https://arxiu.circuitapeu.com/calendario/xxxv-volta-a-peu-a-xabia-memorial-jose-albi/
LOCATION:Xabia 2024\, Avda. Ausias March\, 8\, Xàbia\, Alicante\, 03730\, España
ATTACH;FMTTYPE=image/png:https://arxiu.circuitapeu.com/wp-content/uploads/2023/10/Volta-a-peu-Xabia-24.png
ORGANIZER;CN="Club Atletisme Llebeig X%C3%A0bia":MAILTO:callebeig@gmail.com
END:VEVENT
END:VCALENDAR