BEGIN:VCALENDAR
VERSION:2.0
PRODID:-//Circuit a Peu Marina Alta - ECPv6.11.2.1//NONSGML v1.0//EN
CALSCALE:GREGORIAN
METHOD:PUBLISH
X-WR-CALNAME:Circuit a Peu Marina Alta
X-ORIGINAL-URL:https://arxiu.circuitapeu.com
X-WR-CALDESC:Esdeveniments per Circuit a Peu Marina Alta
REFRESH-INTERVAL;VALUE=DURATION:PT1H
X-Robots-Tag:noindex
X-PUBLISHED-TTL:PT1H
BEGIN:VTIMEZONE
TZID:Europe/Madrid
BEGIN:DAYLIGHT
TZOFFSETFROM:+0100
TZOFFSETTO:+0200
TZNAME:CEST
DTSTART:20230326T010000
END:DAYLIGHT
BEGIN:STANDARD
TZOFFSETFROM:+0200
TZOFFSETTO:+0100
TZNAME:CET
DTSTART:20231029T010000
END:STANDARD
END:VTIMEZONE
BEGIN:VEVENT
DTSTART;TZID=Europe/Madrid:20230506T163000
DTEND;TZID=Europe/Madrid:20230506T203000
DTSTAMP:20260420T181710
CREATED:20230126T124459Z
LAST-MODIFIED:20230506T230054Z
UID:909-1683390600-1683405000@arxiu.circuitapeu.com
SUMMARY:XXXIX VOLTA A PEU PEGO
DESCRIPTION:XXXIX VOLTA A PEU PEGO\n8ª prova puntuable del 25è Circuit a peu Marina Alta\n– MÉS INFO I INSCRIPCIÓ – SOMESPORT \n– NOU RECORREGUT – wikilok \n– CLASSIFICACIONS – \nADULTS – Anys 1943 fins 2005\n\nData: 6 de maig de 2023 – Dissabte\nHora d’eixida adults: 19:00 h.\nEixida i Meta: Passeig Cervantes 7. Pego\nDistància córrer: 10 Km.\nDutxes: Camp de futbol. A 150 m. de meta.\n\nGuarda-roba: A 100 m. de meta. \n\n\nOrganitza: A. C. Dorsal 19 Pego i M.I. Ajuntament de Pego \n\n\n\n\n\nQuota d’inscripció: 6 euros\nTermini d’inscripció: Últim dia inscripció 05/05/ 2023 a les 12:00 h.\n\nXIQUETS – Anys 2006 fins 2021\n\nHora d’eixida xiquets: a partir de les 16:30 h\nQuota d’inscripció: GRATIS\nMés info: https://www.somesport.com/xxxix-volta-a-peu-a-pego/\n\nPREMIS \nREGLAMENT
URL:https://arxiu.circuitapeu.com/calendario/xxxix-volta-a-peu-pego/
LOCATION:Pego\, Passeig Cervantes 7. Pego\, Pego\, Alicante\, España
ATTACH;FMTTYPE=image/jpeg:https://arxiu.circuitapeu.com/wp-content/uploads/2023/01/8-Volta_a_peu_Pego_23.jpg
END:VEVENT
END:VCALENDAR