BEGIN:VCALENDAR
VERSION:2.0
PRODID:-//Circuit a Peu Marina Alta - ECPv6.11.2.1//NONSGML v1.0//EN
CALSCALE:GREGORIAN
METHOD:PUBLISH
X-WR-CALNAME:Circuit a Peu Marina Alta
X-ORIGINAL-URL:https://arxiu.circuitapeu.com
X-WR-CALDESC:Esdeveniments per Circuit a Peu Marina Alta
REFRESH-INTERVAL;VALUE=DURATION:PT1H
X-Robots-Tag:noindex
X-PUBLISHED-TTL:PT1H
BEGIN:VTIMEZONE
TZID:Europe/Madrid
BEGIN:DAYLIGHT
TZOFFSETFROM:+0100
TZOFFSETTO:+0200
TZNAME:CEST
DTSTART:20250330T010000
END:DAYLIGHT
BEGIN:STANDARD
TZOFFSETFROM:+0200
TZOFFSETTO:+0100
TZNAME:CET
DTSTART:20251026T010000
END:STANDARD
END:VTIMEZONE
BEGIN:VEVENT
DTSTART;TZID=Europe/Madrid:20250510T163000
DTEND;TZID=Europe/Madrid:20250510T220000
DTSTAMP:20260420T124605
CREATED:20241202T123126Z
LAST-MODIFIED:20250505T085117Z
UID:5360-1746894600-1746914400@arxiu.circuitapeu.com
SUMMARY:XXXII Cursa Popular vila de Pedreguer
DESCRIPTION:INSCRIPCIÓ EN SOMESPORT.COM \nXXXII CURSA POPULAR VILA DE PEDREGUER – 10\,15k\n\n\n10 de maig de 2025\n\n\nDissabte / Sábado \n\n\n\n\n\n\n\n10ª prova puntuable del 27è Circuit a peu Marina Alta\n\n\n\n\n\n\nDistància de la cursa 10\,15 Km\n\nDistancia de la carrera: 10\,15 Km \n\n\n\n\n\n\n\n19:00 h. – Hora d’eixida del adults\n\n19:00 h. Hora de salida de los adultos \n\n\n\n\n\n\n\n16:30 h – Hora d’eixida de les curses dels xiquets\n\n16:30 h. Hora de comienzo de las carreras infantiles \n\n\n\n\n\n\n\nEixida i Meta. Plaça Major 9. Pedreguer\n\nSalida y Meta. Plaza Mayor\, 9. Pedreguer \n\n\n\n\n\n\n\nInscripció finalitza – 09/05/2025 a les 12:00 h\n\nÚltimo dia de inscripción – 09/05/2025 a las 12:00 h \n\n\n\n\n\n\n\nServei de Dutxes. Poliesportiu municipal. A 1\,8 Km. de meta.\n\nServicio de duchas: Polideportivo municipal. A 1\,8 km. de meta. \n\n\n\n\n\n\n\nServei de guarda-roba. En zona de meta.\n\nServicio de guardarropa. Línea de meta. \n\n\n\n\n\n\n\nServei de guarda-bicis. Línia de meta.\n\nServicio de guardabicis. Línea de Meta. \n\n\n\n\n\n\n\nServei de guarda-claus Línia de meta.\n\nServicio de guarda llaves. Línea de Meta. \n\n\n\n\n\n\n\nOrganitza: C. A. Cametes\n\n Col·labora: M.I. Ajuntament de Pedreguer
URL:https://arxiu.circuitapeu.com/calendario/xxxii-cursa-popular-vila-de-pedreguer/
LOCATION:Pedreguer\, Plaça Major 9\, Pedreguer\, Alicante\, 03750\, España
ATTACH;FMTTYPE=image/jpeg:https://arxiu.circuitapeu.com/wp-content/uploads/2024/12/CARTELL-CURSA-PEDREGUER-2025-H.jpg
END:VEVENT
END:VCALENDAR