BEGIN:VCALENDAR
VERSION:2.0
PRODID:-//Circuit a Peu Marina Alta - ECPv6.11.2.1//NONSGML v1.0//EN
CALSCALE:GREGORIAN
METHOD:PUBLISH
X-WR-CALNAME:Circuit a Peu Marina Alta
X-ORIGINAL-URL:https://arxiu.circuitapeu.com
X-WR-CALDESC:Esdeveniments per Circuit a Peu Marina Alta
REFRESH-INTERVAL;VALUE=DURATION:PT1H
X-Robots-Tag:noindex
X-PUBLISHED-TTL:PT1H
BEGIN:VTIMEZONE
TZID:Europe/Madrid
BEGIN:DAYLIGHT
TZOFFSETFROM:+0100
TZOFFSETTO:+0200
TZNAME:CEST
DTSTART:20240331T010000
END:DAYLIGHT
BEGIN:STANDARD
TZOFFSETFROM:+0200
TZOFFSETTO:+0100
TZNAME:CET
DTSTART:20241027T010000
END:STANDARD
END:VTIMEZONE
BEGIN:VEVENT
DTSTART;VALUE=DATE:20240310
DTEND;VALUE=DATE:20240311
DTSTAMP:20260420T195319
CREATED:20231030T162637Z
LAST-MODIFIED:20240310T171308Z
UID:3636-1710028800-1710115199@arxiu.circuitapeu.com
SUMMARY:XXV VOLTA POPULAR GATA DE GORGOS
DESCRIPTION:CLASSIFICACIONS XXV VOLTA POPULAR GATA DE GORGOS\n\n\n(Termini d’inscripció – Del 01/03/2024 a 08/03/2024 a les 12:00 h.) \n\n\n10 de març de 2024\nDiumenge / Domingo\n\n\n\n\n\n\n3ª prova puntuable del 26è Circuit a peu Marina Alta\n\n\n\n\n\n\nDistància 9\,6 Km\nDistancia\n\n\n\n\n\n\n10:00 h. – Eixida Adults\n10:00 h. Salida Adultos\n\n\n\n\n\n\n12:00 h – Eixida curses xiquets\n\n12:00 h. Salida carreras infantiles \n\n\n\n\n\n\n\nEixida i Meta. C/ Grup Escolar. Gata de Gorgos\n\nSalida y Meta \n\n\n\n\n\n\n\nInscripció finalitza – 08/03/2023 – 12:00 h\n\nÚltimo dia de inscripción – 08/03/2023 – 12:00 h \n\n\n\n\n\n\n\nDutxes. En Zona de meta.\n\nDuchas. En zona de Meta. \n\n\n\n\n\n\n\nGuarda-roba. En Zona de meta.\n\nGuarda bicis. En zona de Meta. \n\n\n\n\n\n\n\nGuarda bicis. En Zona de meta.\n\nGuarda bicis. En zona de Meta. \n\n\n\n\n\n\n\nOrganitza: Ajuntament de Gata de Gorgos\n\n\n\n\n\n\nCol·labora: C. A. Gata
URL:https://arxiu.circuitapeu.com/calendario/xxv-volta-popular-gata-de-gorgos/
LOCATION:Gata de Gorgos\, C/ Grup Escolar\, Gata de Gorgos\, Alicante\, 03740\, España
ATTACH;FMTTYPE=image/png:https://arxiu.circuitapeu.com/wp-content/uploads/2023/10/XXV-Volta-popular-Gata-24.png
END:VEVENT
END:VCALENDAR