BEGIN:VCALENDAR
VERSION:2.0
PRODID:-//Circuit a Peu Marina Alta - ECPv6.11.2.1//NONSGML v1.0//EN
CALSCALE:GREGORIAN
METHOD:PUBLISH
X-WR-CALNAME:Circuit a Peu Marina Alta
X-ORIGINAL-URL:https://arxiu.circuitapeu.com
X-WR-CALDESC:Esdeveniments per Circuit a Peu Marina Alta
REFRESH-INTERVAL;VALUE=DURATION:PT1H
X-Robots-Tag:noindex
X-PUBLISHED-TTL:PT1H
BEGIN:VTIMEZONE
TZID:Europe/Madrid
BEGIN:DAYLIGHT
TZOFFSETFROM:+0100
TZOFFSETTO:+0200
TZNAME:CEST
DTSTART:20240331T010000
END:DAYLIGHT
BEGIN:STANDARD
TZOFFSETFROM:+0200
TZOFFSETTO:+0100
TZNAME:CET
DTSTART:20241027T010000
END:STANDARD
END:VTIMEZONE
BEGIN:VEVENT
DTSTART;VALUE=DATE:20240511
DTEND;VALUE=DATE:20240512
DTSTAMP:20260420T224723
CREATED:20231030T165049Z
LAST-MODIFIED:20240505T164749Z
UID:3677-1715385600-1715471999@arxiu.circuitapeu.com
SUMMARY:XXV CURSA POPULAR JESÚS POBRE
DESCRIPTION:INSCRIU-TE ARA EN SOMESPORT\n11 de maig de 2024\n\nDissabte / Sábado \n\n\n\n\n\n\n\n10ª prova puntuable del 26è Circuit a peu Marina Alta\n\n\n\n\n\n\nDistància de la cursa 9\,7 Km\n\nDistancia de la carrera: 9\,7 Km \n\n\n\n\n\n\n\n19:00 h. – Hora d’eixida del adults\n\n19:00 h. Hora de salida de los adultos \n\n\n\n\n\n\n\n17:00 h – Hora d’eixida de les curses dels xiquets\n\n17:00 h. Hora de comienzo de las carreras infantiles \n\n\n\n\n\n\n\nEixida i Meta. C/ Major\, 1. Jesús Pobre\n\nSalida y Meta. C/ Major\, 1. Jesús Pobre \n\n\n\n\n\n\n\nInscripció finalitza – 10/05/2024 a les12:00 h\n\nÚltimo dia de inscripción – 10/05/2024 a las 12:00 h \n\n\n\n\n\n\n\nServei de Dutxes. Poliesportiu\, a 150 m. de meta.\n\nServicio de duchas: Poliedeportivo. A 150 m. de meta. \n\n\n\n\n\n\n\nServei de guarda-roba. Zona de meta.\n\nServicio de guardarropa. Zona de meta. \n\n\n\n\n\n\n\nServei de guarda-bicis. Zona de meta.\n\nServicio de guardabicis. Zona de meta. \n\n\n\n\n\n\n\nOrganitza:\nEATIM Jesús Pobre Col·labora: CMA La Faixa
URL:https://arxiu.circuitapeu.com/calendario/xxv-cursa-popular-jesus-pobre/
LOCATION:Jesus Pobre\, C/ Major\, 1\, Jesús pobre\, Alicante\, 03749\, España
ATTACH;FMTTYPE=image/png:https://arxiu.circuitapeu.com/wp-content/uploads/2023/10/XXV-Cursa-Popular-Jesus-Pobre-24-1.png
END:VEVENT
END:VCALENDAR