BEGIN:VCALENDAR
VERSION:2.0
PRODID:-//Circuit a Peu Marina Alta - ECPv6.11.2.1//NONSGML v1.0//EN
CALSCALE:GREGORIAN
METHOD:PUBLISH
X-WR-CALNAME:Circuit a Peu Marina Alta
X-ORIGINAL-URL:https://arxiu.circuitapeu.com
X-WR-CALDESC:Esdeveniments per Circuit a Peu Marina Alta
REFRESH-INTERVAL;VALUE=DURATION:PT1H
X-Robots-Tag:noindex
X-PUBLISHED-TTL:PT1H
BEGIN:VTIMEZONE
TZID:Europe/Madrid
BEGIN:DAYLIGHT
TZOFFSETFROM:+0100
TZOFFSETTO:+0200
TZNAME:CEST
DTSTART:20230326T010000
END:DAYLIGHT
BEGIN:STANDARD
TZOFFSETFROM:+0200
TZOFFSETTO:+0100
TZNAME:CET
DTSTART:20231029T010000
END:STANDARD
END:VTIMEZONE
BEGIN:VEVENT
DTSTART;TZID=Europe/Madrid:20230603T160000
DTEND;TZID=Europe/Madrid:20230603T200000
DTSTAMP:20260420T170810
CREATED:20230126T125117Z
LAST-MODIFIED:20230605T072734Z
UID:921-1685808000-1685822400@arxiu.circuitapeu.com
SUMMARY:XXIV CURSA POPULAR BENISSA
DESCRIPTION:XXIV CURSA POPULAR BENISSA\n12ª prova puntuable del 25è Circuit a peu Marina Alta\n– MÉS INFO I INSCRIPCIÓ – SOMESPORT \n– NOU RECORREGUT – wikilok \n– CLASSIFICACIONS – \nADULTS – Anys 1943 fins 2005\n\nData: 03 de JUNY de 2023 – Dissabte\nHora d’eixida adults: 19:00 h.\nEixida i Meta: C/ Padre Andres Ivars\, 1. 03720 Benissa\nDistància córrer: 9\,4 Km.\nDutxes: Palau Sant Pere. A 900 m. de meta\n\nGuarda-roba:Palau Sant Pere. A 900 m. de meta \n\n\nOrganitza: Club Ginestar Atletisme Benissa \n\n\nCol·labora: Ajuntament de Benissa \n\nQuota d’inscripció: 6 euros\nTermini d’inscripció: Últim dia inscripció 02/06/ 2023 a les 12:00 h.\n\nXIQUETS – Anys 2006 fins 2021\n\nHora d’eixida xiquets: a partir de les 16:30 h\nQuota d’inscripció: GRATIS\nMés info: https://www.somesport.com/xxiv-cursa-popular-benissa/\n\nPREMIS \nREGLAMENT
URL:https://arxiu.circuitapeu.com/calendario/xxiv-cursa-popular-benissa/
LOCATION:Benissa\, C/ Padre Andres Ivars\, 1. 03720 Benissa\, Benissa\, Alicante
ATTACH;FMTTYPE=image/png:https://arxiu.circuitapeu.com/wp-content/uploads/2023/01/12-Cursa_Benissa23.png
END:VEVENT
END:VCALENDAR