BEGIN:VCALENDAR
VERSION:2.0
PRODID:-//Circuit a Peu Marina Alta - ECPv6.11.2.1//NONSGML v1.0//EN
CALSCALE:GREGORIAN
METHOD:PUBLISH
X-WR-CALNAME:Circuit a Peu Marina Alta
X-ORIGINAL-URL:https://arxiu.circuitapeu.com
X-WR-CALDESC:Esdeveniments per Circuit a Peu Marina Alta
REFRESH-INTERVAL;VALUE=DURATION:PT1H
X-Robots-Tag:noindex
X-PUBLISHED-TTL:PT1H
BEGIN:VTIMEZONE
TZID:Europe/Madrid
BEGIN:DAYLIGHT
TZOFFSETFROM:+0100
TZOFFSETTO:+0200
TZNAME:CEST
DTSTART:20240331T010000
END:DAYLIGHT
BEGIN:STANDARD
TZOFFSETFROM:+0200
TZOFFSETTO:+0100
TZNAME:CET
DTSTART:20241027T010000
END:STANDARD
END:VTIMEZONE
BEGIN:VEVENT
DTSTART;VALUE=DATE:20240303
DTEND;VALUE=DATE:20240304
DTSTAMP:20260420T182610
CREATED:20231030T155829Z
LAST-MODIFIED:20240305T103837Z
UID:3626-1709424000-1709510399@arxiu.circuitapeu.com
SUMMARY:XI CURSA POPULAR CALP
DESCRIPTION:CLASSIFICACIONS\n\n\n(Termini d’inscripció – Del 26/02/2024 a 01/03/2024 a les 12:00 h.) \n\n\n3 de març de 2024\nDiumenge / Domingo\n\n\n\n\n\n\n2ª prova puntuable del 26è Circuit a peu Marina Alta\n\n\n\n\n\n\nDistància 9\,4 Km\nDistancia\n\n\n\n\n\n\n10:00 h. – Eixida Adults\n10:00 h. Salida Adultos\n\n\n\n\n\n\n\n12:00 h – Eixida curses xiquets\n\n12:00 h. Salida carreras infantiles \n\n\n\n\n\n\n\n\nEixida i Meta. Avd. Gabriel Miró\, 38 . Calp\nSalida y Meta\n\n\n\n\n\n\n\nDutxes. Poliesportiu Municipal\, a 700 m de meta. Calp\n\nDuchas. En el polideportivo municipal\, a 700 m de Meta. \n\n\n\n\n\n\n\n\nInscripció finalitza – 01/03/2024 – 12:00 h\n\nÚltimo dÍa de inscripción – 01/03/2024 – 12:00 h \n\n\n\n\n\n\n\n\nOrganitza: Club Irun Calp\n\n\n\n\n\n\n\nCol·labora: Ajuntament de Calp
URL:https://arxiu.circuitapeu.com/calendario/xi-cursa-popular-calp/
LOCATION:Calp\, Avd. Gabriel Miró\, 38\, Calpe\, España
ATTACH;FMTTYPE=image/png:https://arxiu.circuitapeu.com/wp-content/uploads/2023/10/XI-Cursa-Popular-Calp-24_2.png
END:VEVENT
END:VCALENDAR