BEGIN:VCALENDAR
VERSION:2.0
PRODID:-//Circuit a Peu Marina Alta - ECPv6.11.2.1//NONSGML v1.0//EN
CALSCALE:GREGORIAN
METHOD:PUBLISH
X-WR-CALNAME:Circuit a Peu Marina Alta
X-ORIGINAL-URL:https://arxiu.circuitapeu.com
X-WR-CALDESC:Esdeveniments per Circuit a Peu Marina Alta
REFRESH-INTERVAL;VALUE=DURATION:PT1H
X-Robots-Tag:noindex
X-PUBLISHED-TTL:PT1H
BEGIN:VTIMEZONE
TZID:Europe/Madrid
BEGIN:DAYLIGHT
TZOFFSETFROM:+0100
TZOFFSETTO:+0200
TZNAME:CEST
DTSTART:20230326T010000
END:DAYLIGHT
BEGIN:STANDARD
TZOFFSETFROM:+0200
TZOFFSETTO:+0100
TZNAME:CET
DTSTART:20231029T010000
END:STANDARD
END:VTIMEZONE
BEGIN:VEVENT
DTSTART;TZID=Europe/Madrid:20230226T100000
DTEND;TZID=Europe/Madrid:20230226T130000
DTSTAMP:20260420T195104
CREATED:20230118T143558Z
LAST-MODIFIED:20230226T135838Z
UID:477-1677405600-1677416400@arxiu.circuitapeu.com
SUMMARY:XXXIV VOLTA A PEU A XÀBIA - Memorial José Albi
DESCRIPTION:– INSCRIPCIÓ – \n—CLASSIFICACIONS— \nADULTS – Anys 1943 fins 2005\n\nData: 26 de febrer de 2023\nHora d’eixida: 10:00 h.\nEixida i Meta: Palau d’esports Miguel Buigues Andrés. Av. dels Furs\, 14\, 03730 Xàbia.\nDistància córrer: 10 Km.\nOrganitza: Club Atletisme Llebeig Xàbia\nCol·labora: Ajuntament de Xàbia\nQuota d’inscripció: 6 euros\nTermini d’inscripció: Últim dia inscripció 24 de febrer de 2023 a les 12:00 h.\n\nXIQUETS – Anys 2006 fins 2021\n\nHora d’eixida xiquets: a partir de les 12:00 h\nQuota d’inscripció: GRATIS\nMés info: https://www.somesport.com/volta-a-peu-xabia/\n\n 
URL:https://arxiu.circuitapeu.com/calendario/xabia/
ATTACH;FMTTYPE=image/png:https://arxiu.circuitapeu.com/wp-content/uploads/2023/01/Volta_a_peu_Xabia_23.png
ORGANIZER;CN="Club Atletisme Llebeig X%C3%A0bia":MAILTO:callebeig@gmail.com
END:VEVENT
END:VCALENDAR