BEGIN:VCALENDAR
VERSION:2.0
PRODID:-//Circuit a Peu Marina Alta - ECPv6.11.2.1//NONSGML v1.0//EN
CALSCALE:GREGORIAN
METHOD:PUBLISH
X-WR-CALNAME:Circuit a Peu Marina Alta
X-ORIGINAL-URL:https://arxiu.circuitapeu.com
X-WR-CALDESC:Esdeveniments per Circuit a Peu Marina Alta
REFRESH-INTERVAL;VALUE=DURATION:PT1H
X-Robots-Tag:noindex
X-PUBLISHED-TTL:PT1H
BEGIN:VTIMEZONE
TZID:Europe/Madrid
BEGIN:DAYLIGHT
TZOFFSETFROM:+0100
TZOFFSETTO:+0200
TZNAME:CEST
DTSTART:20230326T010000
END:DAYLIGHT
BEGIN:STANDARD
TZOFFSETFROM:+0200
TZOFFSETTO:+0100
TZNAME:CET
DTSTART:20231029T010000
END:STANDARD
END:VTIMEZONE
BEGIN:VEVENT
DTSTART;TZID=Europe/Madrid:20230305T100000
DTEND;TZID=Europe/Madrid:20230305T130000
DTSTAMP:20260420T170817
CREATED:20230126T123307Z
LAST-MODIFIED:20230305T164601Z
UID:887-1678010400-1678021200@arxiu.circuitapeu.com
SUMMARY:X CURSA POPULAR CALP - Homenaje Paul Megson
DESCRIPTION:X cursa popular Calp. Una edición especial. La carrera llega a su décima edición\, y por ello todos los participantes de los 9 km recibirán una medalla de «finisher». \nEdición especial porqué también se realizará un homenaje a un miembro del Irun Calp que ya no está entre nosotros. Allá donde esté Paul\, esperamos que nos guie con su estrella \n2ª prova puntuable del 25è Circuit a peu Marina Alta\n– MÉS INFO I INSCRIPCIÓ – SOMESPORT \n— CLASSIFICACIONS — \nADULTS – Anys 1943 fins 2005\n\nData: 5 de març de 2023 – Diumenge\nHora d’eixida: 10:00 h.\nEixida i Meta: Avd. Gabriel Miró\, 38 . Calp\nDistància córrer: 9 Km.\nDutxes: Poliesportiu Municipal\, a 700 m de meta. Calp\nOrganitza: Club Irun Calp\nCol·labora: Ajuntament de Calp\nQuota d’inscripció: 6 euros\nTermini d’inscripció: Últim dia inscripció 03/03/ 2023 a les 12:00 h.\n\nXIQUETS – Anys 2006 fins 2021\n\nHora d’eixida xiquets: a partir de les 12:00 h\nQuota d’inscripció: GRATIS\nMés info: https://www.somesport.com/cursa-popular-calp/
URL:https://arxiu.circuitapeu.com/calendario/x-cursa-popular-calp/
LOCATION:Calp\, Avd. Gabriel Miró\, 38\, Calpe\, España
ATTACH;FMTTYPE=image/png:https://arxiu.circuitapeu.com/wp-content/uploads/2023/01/Cursa_popular_Calp_23_v3.png
ORGANIZER;CN="Club Irun Calp":MAILTO:iruncalp@hotmail.es
END:VEVENT
END:VCALENDAR