BEGIN:VCALENDAR
VERSION:2.0
PRODID:-//Circuit a Peu Marina Alta - ECPv6.11.2.1//NONSGML v1.0//EN
CALSCALE:GREGORIAN
METHOD:PUBLISH
X-WR-CALNAME:Circuit a Peu Marina Alta
X-ORIGINAL-URL:https://arxiu.circuitapeu.com
X-WR-CALDESC:Esdeveniments per Circuit a Peu Marina Alta
REFRESH-INTERVAL;VALUE=DURATION:PT1H
X-Robots-Tag:noindex
X-PUBLISHED-TTL:PT1H
BEGIN:VTIMEZONE
TZID:Europe/Madrid
BEGIN:DAYLIGHT
TZOFFSETFROM:+0100
TZOFFSETTO:+0200
TZNAME:CEST
DTSTART:20230326T010000
END:DAYLIGHT
BEGIN:STANDARD
TZOFFSETFROM:+0200
TZOFFSETTO:+0100
TZNAME:CET
DTSTART:20231029T010000
END:STANDARD
END:VTIMEZONE
BEGIN:VEVENT
DTSTART;TZID=Europe/Madrid:20230422T160000
DTEND;TZID=Europe/Madrid:20230422T200000
DTSTAMP:20260420T194656
CREATED:20230126T124353Z
LAST-MODIFIED:20230423T084739Z
UID:905-1682179200-1682193600@arxiu.circuitapeu.com
SUMMARY:VOLTA A PEU DÉNIA
DESCRIPTION:VOLTA A PEU DÉNIA 2023\n6ª prova puntuable del 25è Circuit a peu Marina Alta\n– MÉS INFO I INSCRIPCIÓ – SOMESPORT \n– NOU RECORREGUT – \n– CLASSIFICACIONS – \nADULTS – Anys 1943 fins 2005\n\nData: 22 d’abril de 2023 – Dissabte\nHora d’eixida adults: 18:30 h.\nEixida i Meta: Carrer la Via 53. Dénia\nDistància córrer: 9\,9 Km.\nDutxes: Col·legi Maristes. A 189 m. de meta.\n\nGuarda-roba: en xona de meta. \n\n\nOrganitza: M.I. Ajuntament de Dénia – C. Denia Corre \n\nQuota d’inscripció: 6 euros\nTermini d’inscripció: Últim dia inscripció 21/04/ 2023 a les 12:00 h.\n\nXIQUETS – Anys 2006 fins 2021\n\nHora d’eixida xiquets: a partir de les 16:00 h\nQuota d’inscripció: GRATIS\nMés info: https://www.somesport.com/volta-a-peu-denia-2023/\n\nPREMIS \nREGLAMENT \n 
URL:https://arxiu.circuitapeu.com/calendario/volta-a-peu-denia/
ATTACH;FMTTYPE=image/png:https://arxiu.circuitapeu.com/wp-content/uploads/2023/01/7-Volta_a_peu_Denia_23.png
END:VEVENT
END:VCALENDAR