BEGIN:VCALENDAR
VERSION:2.0
PRODID:-//Circuit a Peu Marina Alta - ECPv6.11.2.1//NONSGML v1.0//EN
CALSCALE:GREGORIAN
METHOD:PUBLISH
X-WR-CALNAME:Circuit a Peu Marina Alta
X-ORIGINAL-URL:https://arxiu.circuitapeu.com
X-WR-CALDESC:Esdeveniments per Circuit a Peu Marina Alta
REFRESH-INTERVAL;VALUE=DURATION:PT1H
X-Robots-Tag:noindex
X-PUBLISHED-TTL:PT1H
BEGIN:VTIMEZONE
TZID:Europe/Madrid
BEGIN:DAYLIGHT
TZOFFSETFROM:+0100
TZOFFSETTO:+0200
TZNAME:CEST
DTSTART:20240331T010000
END:DAYLIGHT
BEGIN:STANDARD
TZOFFSETFROM:+0200
TZOFFSETTO:+0100
TZNAME:CET
DTSTART:20241027T010000
END:STANDARD
END:VTIMEZONE
BEGIN:VEVENT
DTSTART;VALUE=DATE:20240420
DTEND;VALUE=DATE:20240421
DTSTAMP:20260420T182453
CREATED:20231030T164327Z
LAST-MODIFIED:20240411T091402Z
UID:3664-1713571200-1713657599@arxiu.circuitapeu.com
SUMMARY:VOLTA A PEU DÉNIA - 2024
DESCRIPTION:INSCRIU-TE ARA! \n20 d’abril de 2024\n\nDissabte / Sábado \n\n\n\n\n\n\n\n7ª prova puntuable del 26è Circuit a peu Marina Alta\n\n\n\n\n\n\n\n18:30 h. – Hora d’eixida del adults\n\n18:30 h. Hora de salida de los adultos \n\n\n\n\n\n\n\n16:00 h – Hora d’eixida de les curses dels xiquets\n\n16:00 h. Hora de comienzo de las carreras infantiles \n\n\n\n\n\n\n\nEixida i Meta. Carrer Marqués de Campos. Dénia\n\nSalida y Meta. Calle Marqués de Campo\, 53. Dénia \n\n\n\n\n\n\n\nInscripció finalitza – 19/04/2024 a les12:00 h\n\nÚltimo dia de inscripción – 19/04/2024 a las 12:00 h \n\n\n\n\n\n\n\nServei de Dutxes. Col·legi Maristes. A 137 m. de meta.\n\nServicio de duchas: Colegio Hermanos Maristas. A 137 m. de meta. \n\n\n\n\n\n\n\nServei de guarda-roba. En zona de meta.\n\nServicio de guardarropa. En zona de meta. \n\n\n\n\n\n\n\nOrganitza: C. Dénia Corre i M.I. Ajuntament de Dénia
URL:https://arxiu.circuitapeu.com/calendario/volta-a-peu-denia-2024/
ATTACH;FMTTYPE=image/png:https://arxiu.circuitapeu.com/wp-content/uploads/2023/10/Volta-a-peu-Denia-2024.png
END:VEVENT
END:VCALENDAR