BEGIN:VCALENDAR
VERSION:2.0
PRODID:-//Circuit a Peu Marina Alta - ECPv6.11.2.1//NONSGML v1.0//EN
CALSCALE:GREGORIAN
METHOD:PUBLISH
X-WR-CALNAME:Circuit a Peu Marina Alta
X-ORIGINAL-URL:https://arxiu.circuitapeu.com
X-WR-CALDESC:Esdeveniments per Circuit a Peu Marina Alta
REFRESH-INTERVAL;VALUE=DURATION:PT1H
X-Robots-Tag:noindex
X-PUBLISHED-TTL:PT1H
BEGIN:VTIMEZONE
TZID:Europe/Madrid
BEGIN:DAYLIGHT
TZOFFSETFROM:+0100
TZOFFSETTO:+0200
TZNAME:CEST
DTSTART:20240331T010000
END:DAYLIGHT
BEGIN:STANDARD
TZOFFSETFROM:+0200
TZOFFSETTO:+0100
TZNAME:CET
DTSTART:20241027T010000
END:STANDARD
END:VTIMEZONE
BEGIN:VEVENT
DTSTART;VALUE=DATE:20240406
DTEND;VALUE=DATE:20240407
DTSTAMP:20260420T170126
CREATED:20231030T163447Z
LAST-MODIFIED:20240325T093817Z
UID:3652-1712361600-1712447999@arxiu.circuitapeu.com
SUMMARY:VII VOLTA A PEU EL POBLE NOU DE BENITATXELL
DESCRIPTION:INSCRIPCIÓ EN SOM SPORT ——– INSCRIU-TE ARA!\n6 d’abril de 2024 (16:00 xiquets // 18:30 adults)\n\nDissabte / Sábado \n\n\n\n\n5ª prova puntuable del 26è Circuit a peu Marina Alta\nRECORREGUT DE LA VII VOLTA A PEU EL POBLE NOU DE BENITATXELL – 8\,1Km (enllaç wikilok)\n\n\n\n\n\n\n– Distància de la cursa 8\,1 Km\n\nDistancia de la carrera: 8\,1 Km \n\n\n\n\n\n\n\n– 18:30 h. – Hora d’eixida dels adults\n\n18:30 h. Hora de salida de los adultos \n\n\n\n\n\n\n\n– 16:00 h – Hora d’eixida de les curses dels xiquets\n\n16:00 h. Hora de comienzo de las carreras infantiles \n\n\n\n\n\n\n\n– Eixida i meta de la prova. Avda: Valencia. El Poble Nou de Benitatxell\n\nSalida y meta de la carrera: Avda. Valencia. Benitachell \n\n\n\n\n\n\n\n– Inscripció finalitza – 05/04/2024 a les12:00 h\n\nÚltimo dia de inscripción – 05/04/2024 a las 12:00 h \n\n\n\n\n\n\n\n– Servei de Dutxes: en el camp de fútbol. A 1\,2 Km. de meta.\n\nServicio de duchas: en el campo de fútbol. A 1\,2 km. de meta. \n\n\n\n\n\n\n\n– Guarda-roba i guarda-bicis: a 50 m. de meta.\n\nServicio de guardarropa y guardabicis: a 50 m. de meta. \n\n\n\n\n\n\n\nOrganiza: Ajuntament de El Poble Nou de Benitatxell – Club Multiesport Benitatxell
URL:https://arxiu.circuitapeu.com/calendario/vii-volta-a-peu-el-poble-nou-de-benitatxell/
LOCATION:Poble Nou de Benitatxell\, Avenida de Valencia 3\, Poble Nou de Benitatxell\, 03726\, España
ATTACH;FMTTYPE=image/png:https://arxiu.circuitapeu.com/wp-content/uploads/2023/10/VII-Volta-a-peu-Benitatxell-24.png
END:VEVENT
END:VCALENDAR