BEGIN:VCALENDAR
VERSION:2.0
PRODID:-//Circuit a Peu Marina Alta - ECPv6.11.2.1//NONSGML v1.0//EN
CALSCALE:GREGORIAN
METHOD:PUBLISH
X-WR-CALNAME:Circuit a Peu Marina Alta
X-ORIGINAL-URL:https://arxiu.circuitapeu.com
X-WR-CALDESC:Esdeveniments per Circuit a Peu Marina Alta
REFRESH-INTERVAL;VALUE=DURATION:PT1H
X-Robots-Tag:noindex
X-PUBLISHED-TTL:PT1H
BEGIN:VTIMEZONE
TZID:Europe/Madrid
BEGIN:DAYLIGHT
TZOFFSETFROM:+0100
TZOFFSETTO:+0200
TZNAME:CEST
DTSTART:20240331T010000
END:DAYLIGHT
BEGIN:STANDARD
TZOFFSETFROM:+0200
TZOFFSETTO:+0100
TZNAME:CET
DTSTART:20241027T010000
END:STANDARD
END:VTIMEZONE
BEGIN:VEVENT
DTSTART;TZID=Europe/Madrid:20240607T203000
DTEND;TZID=Europe/Madrid:20240607T233000
DTSTAMP:20260420T182711
CREATED:20240603T092318Z
LAST-MODIFIED:20240607T130614Z
UID:5159-1717792200-1717803000@arxiu.circuitapeu.com
SUMMARY:SOPAR GALA 26È CIRCUIT A PEU MARINA ALTA
DESCRIPTION:Sopar Gala – Cena Gala
URL:https://arxiu.circuitapeu.com/calendario/sopar-gala-26e-circuit-a-peu-marina-alta/
LOCATION:Salones Carrasco\, Camino Cabanes\, 15\, Xàbia\, Xàbia\, Alicante\, 03730\, España
ATTACH;FMTTYPE=image/png:https://arxiu.circuitapeu.com/wp-content/uploads/2024/06/Sopar-Gala-26-Circuit-a-peu-Marina-Alta.png
END:VEVENT
END:VCALENDAR