BEGIN:VCALENDAR
VERSION:2.0
PRODID:-//Circuit a Peu Marina Alta - ECPv6.11.2.1//NONSGML v1.0//EN
CALSCALE:GREGORIAN
METHOD:PUBLISH
X-WR-CALNAME:Circuit a Peu Marina Alta
X-ORIGINAL-URL:https://arxiu.circuitapeu.com
X-WR-CALDESC:Esdeveniments per Circuit a Peu Marina Alta
REFRESH-INTERVAL;VALUE=DURATION:PT1H
X-Robots-Tag:noindex
X-PUBLISHED-TTL:PT1H
BEGIN:VTIMEZONE
TZID:Europe/Madrid
BEGIN:DAYLIGHT
TZOFFSETFROM:+0100
TZOFFSETTO:+0200
TZNAME:CEST
DTSTART:20230326T010000
END:DAYLIGHT
BEGIN:STANDARD
TZOFFSETFROM:+0200
TZOFFSETTO:+0100
TZNAME:CET
DTSTART:20231029T010000
END:STANDARD
END:VTIMEZONE
BEGIN:VEVENT
DTSTART;TZID=Europe/Madrid:20230127T200000
DTEND;TZID=Europe/Madrid:20230127T213000
DTSTAMP:20260420T225516
CREATED:20230118T141717Z
LAST-MODIFIED:20230126T164802Z
UID:473-1674849600-1674855000@arxiu.circuitapeu.com
SUMMARY:PRESENTACIÓ CIRCUIT A PEU MARINA ALTA 2023
DESCRIPTION:Presentación del Circuit a peu Marina Alta 2023
URL:https://arxiu.circuitapeu.com/calendario/presentacio-circuit-a-peu-marina-alta-2023/
LOCATION:Multiespai L’androna\, Estación Marítima\, S/N\, Alicante\, 03700\, España
ATTACH;FMTTYPE=image/jpeg:https://arxiu.circuitapeu.com/wp-content/uploads/2023/01/presentacion-circuit_02.jpg
END:VEVENT
END:VCALENDAR