BEGIN:VCALENDAR
VERSION:2.0
PRODID:-//Circuit a Peu Marina Alta - ECPv6.11.2.1//NONSGML v1.0//EN
CALSCALE:GREGORIAN
METHOD:PUBLISH
X-WR-CALNAME:Circuit a Peu Marina Alta
X-ORIGINAL-URL:https://arxiu.circuitapeu.com
X-WR-CALDESC:Esdeveniments per Circuit a Peu Marina Alta
REFRESH-INTERVAL;VALUE=DURATION:PT1H
X-Robots-Tag:noindex
X-PUBLISHED-TTL:PT1H
BEGIN:VTIMEZONE
TZID:Europe/Madrid
BEGIN:DAYLIGHT
TZOFFSETFROM:+0100
TZOFFSETTO:+0200
TZNAME:CEST
DTSTART:20250330T010000
END:DAYLIGHT
BEGIN:STANDARD
TZOFFSETFROM:+0200
TZOFFSETTO:+0100
TZNAME:CET
DTSTART:20251026T010000
END:STANDARD
END:VTIMEZONE
BEGIN:VEVENT
DTSTART;TZID=Europe/Madrid:20250406T090000
DTEND;TZID=Europe/Madrid:20250406T140000
DTSTAMP:20260420T130411
CREATED:20241202T122822Z
LAST-MODIFIED:20250323T112817Z
UID:5356-1743930000-1743948000@arxiu.circuitapeu.com
SUMMARY:II Volta a Peu Portal de la Marina
DESCRIPTION:INSCRIPCIÓ EN SOMESPORT.COM \nCARRERA SOLIDARIA \n\n\n\n6 de abril de 2025\n\nDiumenge / Domingo \n\n\n\n\n\n\n\n7ª prova puntuable del 27è Circuit a peu Marina Alta\n\n\n\n\n\n\nDistància de la cursa 8 Km\n\nDistancia de la carrera: 8 Km \n\n\n\n\n\n\n\n09:00 h. – Hora d’eixida del adults\n\n09:00 h. Hora de salida de los adultos \n\n\n\n\n\n\n\n11:00 h – Hora d’eixida de les curses dels xiquets\n\n11:00 h. Hora de comienzo de las carreras infantiles \n\n\n\n\n\n\n\nEixida i Meta. C. Comercial Portal de la Marina. Ondara\n\nSalida y Meta. C. Comercial Portal de la Marina. Ondara \n\n\n\n\n\n\n\nInscripció finalitza – 04/04/2025 a les12:00 h\n\nÚltimo dia de inscripción – 04/04/2025 a las 12:00 h \n\n\n\n\n\n\n\nOrganitza: Centro Comercial Portal de la Marina.
URL:https://arxiu.circuitapeu.com/calendario/ii-volta-a-peu-portal-de-la-marina/
LOCATION:C.C.Portal de La Marina\, Av. Costa Blanca\, 2\, Ondara\, Alicante\, 03760\, España
ATTACH;FMTTYPE=image/jpeg:https://arxiu.circuitapeu.com/wp-content/uploads/2024/12/CARTELL-CURSA-PORTAL-DE-LA-MARINA-2025-H.jpg
END:VEVENT
END:VCALENDAR