BEGIN:VCALENDAR
VERSION:2.0
PRODID:-//Circuit a Peu Marina Alta - ECPv6.11.2.1//NONSGML v1.0//EN
CALSCALE:GREGORIAN
METHOD:PUBLISH
X-WR-CALNAME:Circuit a Peu Marina Alta
X-ORIGINAL-URL:https://arxiu.circuitapeu.com
X-WR-CALDESC:Esdeveniments per Circuit a Peu Marina Alta
REFRESH-INTERVAL;VALUE=DURATION:PT1H
X-Robots-Tag:noindex
X-PUBLISHED-TTL:PT1H
BEGIN:VTIMEZONE
TZID:Europe/Madrid
BEGIN:DAYLIGHT
TZOFFSETFROM:+0100
TZOFFSETTO:+0200
TZNAME:CEST
DTSTART:20250330T010000
END:DAYLIGHT
BEGIN:STANDARD
TZOFFSETFROM:+0200
TZOFFSETTO:+0100
TZNAME:CET
DTSTART:20251026T010000
END:STANDARD
END:VTIMEZONE
BEGIN:VEVENT
DTSTART;TZID=Europe/Madrid:20250207T200000
DTEND;TZID=Europe/Madrid:20250207T235900
DTSTAMP:20260420T155010
CREATED:20241202T120403Z
LAST-MODIFIED:20250205T135257Z
UID:5329-1738958400-1738972740@arxiu.circuitapeu.com
SUMMARY:Gala Presentació Circuit a Peu 2025
DESCRIPTION:—
URL:https://arxiu.circuitapeu.com/calendario/gala-presentacio-circuit-a-peu-2025/
LOCATION:Multiespai L’androna\, Estación Marítima\, S/N\, Alicante\, 03700\, España
ATTACH;FMTTYPE=image/jpeg:https://arxiu.circuitapeu.com/wp-content/uploads/2024/12/00-presentacio-p.jpg
END:VEVENT
END:VCALENDAR