BEGIN:VCALENDAR
VERSION:2.0
PRODID:-//Circuit a Peu Marina Alta - ECPv6.11.2.1//NONSGML v1.0//EN
CALSCALE:GREGORIAN
METHOD:PUBLISH
X-WR-CALNAME:Circuit a Peu Marina Alta
X-ORIGINAL-URL:https://arxiu.circuitapeu.com
X-WR-CALDESC:Esdeveniments per Circuit a Peu Marina Alta
REFRESH-INTERVAL;VALUE=DURATION:PT1H
X-Robots-Tag:noindex
X-PUBLISHED-TTL:PT1H
BEGIN:VTIMEZONE
TZID:Europe/Madrid
BEGIN:DAYLIGHT
TZOFFSETFROM:+0100
TZOFFSETTO:+0200
TZNAME:CEST
DTSTART:20250330T010000
END:DAYLIGHT
BEGIN:STANDARD
TZOFFSETFROM:+0200
TZOFFSETTO:+0100
TZNAME:CET
DTSTART:20251026T010000
END:STANDARD
END:VTIMEZONE
BEGIN:VEVENT
DTSTART;TZID=Europe/Madrid:20250613T203000
DTEND;TZID=Europe/Madrid:20250613T235900
DTSTAMP:20260420T130411
CREATED:20241202T124612Z
LAST-MODIFIED:20250608T081651Z
UID:5368-1749846600-1749859140@arxiu.circuitapeu.com
SUMMARY:Gala Final circuit a peu MARINA ALTA 2025
DESCRIPTION:13 de juny de 2025\nÚltim dia inscripció\n\n10 de juny – 18:00 h\nSalones Carrasco.\n\nCamino Cabanes\, 15\, Xàbia\nHora obertura portes\n\n20:30 h\nTicket Sopar adults\n\nAdults 41 €* i 48 € IVA inclòs\nTicket Sopar xiquets\n\n  Xiquets 25 € IVA inclòs\nQUI POT PARTICIPAR?\n\nEs tracta d’un sopar obert a tot el món….qualsevol que ho desitge podrà assistir: corredors\, membres dels clubs\, acompanyants\, parelles\, familiars\, amics ….. \nELS GUANYADORS ESTÁN CONVIDATS? Sí\n\nEls/Les 3 primers/es classificats/des de les categories Benjamí fins Veterans G sempre que hagen cobert el cicle de 8 carreres\, estan convidats/des. \n* 1 invitació per club pels 3 primers clubs classificats de la general * Els 3 primers clubs de la general femenina (1 invitació per club). \n\n\n\n\n\nMENÚ ADULTOS\n\nAperitivos individuales de bienvenida.\n1º PLATO. Alcachofa confitada con virutas de jamón ibérico y crema de foie.\n2º PLATO.\nOpción 1 – Carrillera ibérica en su jugo.\nOpción 2 – Salmón al eneldo con arroz salvaje.\nPOSTRE – Hojaldre de manzana con helado de caramelo.\nBEBIDA: Agua\, refrescos\, vino blanco\, vino tinto\, cerveza\, refrescos y café.\n\n\n\n41 euros * – 48 euros IVA incluido \n*Descompte per fidelitat \nDescompte per fidelitat *\n\nAdults 41 euros. Tots els/les corredors/es adults/es inscrits/es en el Circuit a Peu Marina Alta amb 8 o més proves disputades del circuit 2025 podran adquirir el seu tiquet amb el descompte. \n*CONDICIONS. Promoció vàlida fins el 10 de Juny a les 18:00 h.\n1 Tiquet per persona.\nEn la promoció només podrà participar el/la corredor/a inscrit/a en el Circuit que haja disputat 8 o més proves del Circuit.\nEl tiquet és personal e intransferible\, i per tant no es podrà cedir a una tercera persona.
URL:https://arxiu.circuitapeu.com/calendario/gala-final-circuit-a-peu-marina-alta-2025/
LOCATION:Salones Carrasco\, Camino Cabanes\, 15\, Xàbia\, Xàbia\, Alicante\, 03730\, España
ATTACH;FMTTYPE=image/webp:https://arxiu.circuitapeu.com/wp-content/uploads/2024/12/Sopar-Gala-27-Circuit-a-peu-Marina-Alta-2025.webp
END:VEVENT
END:VCALENDAR