BEGIN:VCALENDAR
VERSION:2.0
PRODID:-//Circuit a Peu Marina Alta - ECPv6.11.2.1//NONSGML v1.0//EN
CALSCALE:GREGORIAN
METHOD:PUBLISH
X-WR-CALNAME:Circuit a Peu Marina Alta
X-ORIGINAL-URL:https://arxiu.circuitapeu.com
X-WR-CALDESC:Esdeveniments per Circuit a Peu Marina Alta
REFRESH-INTERVAL;VALUE=DURATION:PT1H
X-Robots-Tag:noindex
X-PUBLISHED-TTL:PT1H
BEGIN:VTIMEZONE
TZID:Europe/Madrid
BEGIN:DAYLIGHT
TZOFFSETFROM:+0100
TZOFFSETTO:+0200
TZNAME:CEST
DTSTART:20230326T010000
END:DAYLIGHT
BEGIN:STANDARD
TZOFFSETFROM:+0200
TZOFFSETTO:+0100
TZNAME:CET
DTSTART:20231029T010000
END:STANDARD
END:VTIMEZONE
BEGIN:VEVENT
DTSTART;TZID=Europe/Madrid:20230513T170000
DTEND;TZID=Europe/Madrid:20230513T210000
DTSTAMP:20260420T152732
CREATED:20230126T124658Z
LAST-MODIFIED:20230515T060056Z
UID:912-1683997200-1684011600@arxiu.circuitapeu.com
SUMMARY:30 CURSA POPULAR VILA DE PEDREGUER
DESCRIPTION:XXX CURSA POPULAR VILA DE PEDREGUER\n9ª prova puntuable del 25è Circuit a peu Marina Alta\n– MÉS INFO I INSCRIPCIÓ – SOMESPORT \n– NOU RECORREGUT – wikilok \n– CLASSIFICACIONS – \nADULTS – Anys 1943 fins 2005\n\nData: 13 de maig de 2023 – Dissabte\nHora d’eixida adults: 19:00 h.\nEixida i Meta: Plaça Major 9. Pedreguer\nDistància córrer: 10\,15 Km.\nDutxes: Poliesportiu municipal. A 1\,8 Km. de meta.\n\nGuarda-roba: En zona de meta. \n\n\nOrganitza: C.A. Cametes Pedreguer \, M.I. Ajuntament de Pedreguer \n\nQuota d’inscripció: 6 euros\nTermini d’inscripció: Últim dia inscripció 12/05/ 2023 a les 12:00 h.\n\nXIQUETS – Anys 2006 fins 2021\n\nHora d’eixida xiquets: a partir de les 17:00 h\nQuota d’inscripció: GRATIS\nMés info: https://www.somesport.com/30a-cursa-popular-vila-de-pedreguer/\n\nPREMIS \nREGLAMENT \n 
URL:https://arxiu.circuitapeu.com/calendario/30-cursa-popular-vila-de-pedreguer/
LOCATION:Pedreguer\, Plaça Major 9\, Pedreguer\, Alicante\, 03750\, España
ATTACH;FMTTYPE=image/png:https://arxiu.circuitapeu.com/wp-content/uploads/2023/01/9-cursa_pedreguer_23.png
END:VEVENT
END:VCALENDAR